BEGIN:VCALENDAR
VERSION:2.0
PRODID:-//Adventure Anderson - ECPv6.15.20//NONSGML v1.0//EN
CALSCALE:GREGORIAN
METHOD:PUBLISH
X-WR-CALNAME:Adventure Anderson
X-ORIGINAL-URL:https://adventureanderson.com
X-WR-CALDESC:Events for Adventure Anderson
REFRESH-INTERVAL;VALUE=DURATION:PT1H
X-Robots-Tag:noindex
X-PUBLISHED-TTL:PT1H
BEGIN:VTIMEZONE
TZID:America/New_York
BEGIN:DAYLIGHT
TZOFFSETFROM:-0500
TZOFFSETTO:-0400
TZNAME:EDT
DTSTART:20240310T070000
END:DAYLIGHT
BEGIN:STANDARD
TZOFFSETFROM:-0400
TZOFFSETTO:-0500
TZNAME:EST
DTSTART:20241103T060000
END:STANDARD
BEGIN:DAYLIGHT
TZOFFSETFROM:-0500
TZOFFSETTO:-0400
TZNAME:EDT
DTSTART:20250309T070000
END:DAYLIGHT
BEGIN:STANDARD
TZOFFSETFROM:-0400
TZOFFSETTO:-0500
TZNAME:EST
DTSTART:20251102T060000
END:STANDARD
BEGIN:DAYLIGHT
TZOFFSETFROM:-0500
TZOFFSETTO:-0400
TZNAME:EDT
DTSTART:20260308T070000
END:DAYLIGHT
BEGIN:STANDARD
TZOFFSETFROM:-0400
TZOFFSETTO:-0500
TZNAME:EST
DTSTART:20261101T060000
END:STANDARD
END:VTIMEZONE
BEGIN:VEVENT
DTSTART;VALUE=DATE:20250620
DTEND;VALUE=DATE:20250623
DTSTAMP:20260424T185812
CREATED:20240621T220010Z
LAST-MODIFIED:20250414T212344Z
UID:10000011-1750377600-1750636799@adventureanderson.com
SUMMARY:Lavender Festival
DESCRIPTION:Join us for a fragrant and festive weekend celebrating all things lavender in the heart of Jackson Square. The Main Event\, held Saturday\, June 21 from 8 a.m. to 4 p.m.\, is free and full of local vendors\, artisan goods\, live music\, and lavender-filled fun — it’s the centerpiece of the festival and a beloved tradition. \nBut that’s not all! Be sure to check out our special ticketed events happening throughout the weekend: \nHerb LunchFriday\, June 20 | 12 – 1:30 p.m.A delicious\, herb-inspired meal to kick off the festivities. Tickets required – on sale May 1. \nLavender Festival Tour of GardensFriday\, June 20 | 4 – 6 p.m.Saturday\, June 21 | 10 a.m. – 4 p.m.Stroll through beautifully curated private and public gardens bursting with lavender. Tickets required – on sale May 1. \nScience on Tap: A Fermentation FairSunday\, June 22 | 1 – 4 p.m. | Jackson SquareDiscover the science and flavor of fermentation. Free to explore\, but tastings require a ticket – on sale May 1. \nGet all the details and ticket info at www.JacksonSquareLavenderFestival.org – we can’t wait to see you there!
URL:https://adventureanderson.com/events/lavender-festival/
LOCATION:Jackson Square\, Jackson Square Oak Ridge\, Oak Ridge\, United States
ATTACH;FMTTYPE=image/jpeg:https://adventureanderson.com/wp-content/uploads/2024/06/IMG_0286.jpg
END:VEVENT
BEGIN:VEVENT
DTSTART;TZID=America/New_York:20250621T220000
DTEND;TZID=America/New_York:20250622T010000
DTSTAMP:20260424T185812
CREATED:20240621T190401Z
LAST-MODIFIED:20250730T210619Z
UID:10000208-1750543200-1750554000@adventureanderson.com
SUMMARY:Summer Sessions Concert Series
DESCRIPTION:All Summer Sessions concerts are FREE to the public and feature regional bluegrass and Americana bands. The community is invited to bring their lawn chairs and join their friends and family for an evening of free live entertainment. Local food truck vendors will also be on-site serving delicious treats and drinks. \n2025 Summer Sessions Lineup \n\nJune 21: Erick Baker\, The Young Fables\nAugust 23: Dan Tyminski\, Amythyst Kiah\nSeptember 20: Cruz Contreras & The Black Lillies\, Stoney Point Bluegrass Band\, and Madelyn Tallent
URL:https://adventureanderson.com/events/summer-sessions-concert-series/2025-06-21/
LOCATION:A. K. Bissell Park\, 1403 Oak Ridge Turnpike\, Oak Ridge\, TN\, 37830\, United States
ATTACH;FMTTYPE=image/jpeg:https://adventureanderson.com/wp-content/uploads/2024/06/ss-9-scaled.jpg
END:VEVENT
END:VCALENDAR