BEGIN:VCALENDAR
VERSION:2.0
PRODID:-//Adventure Anderson - ECPv6.15.20//NONSGML v1.0//EN
CALSCALE:GREGORIAN
METHOD:PUBLISH
X-WR-CALNAME:Adventure Anderson
X-ORIGINAL-URL:https://adventureanderson.com
X-WR-CALDESC:Events for Adventure Anderson
REFRESH-INTERVAL;VALUE=DURATION:PT1H
X-Robots-Tag:noindex
X-PUBLISHED-TTL:PT1H
BEGIN:VTIMEZONE
TZID:America/New_York
BEGIN:DAYLIGHT
TZOFFSETFROM:-0500
TZOFFSETTO:-0400
TZNAME:EDT
DTSTART:20240310T070000
END:DAYLIGHT
BEGIN:STANDARD
TZOFFSETFROM:-0400
TZOFFSETTO:-0500
TZNAME:EST
DTSTART:20241103T060000
END:STANDARD
BEGIN:DAYLIGHT
TZOFFSETFROM:-0500
TZOFFSETTO:-0400
TZNAME:EDT
DTSTART:20250309T070000
END:DAYLIGHT
BEGIN:STANDARD
TZOFFSETFROM:-0400
TZOFFSETTO:-0500
TZNAME:EST
DTSTART:20251102T060000
END:STANDARD
BEGIN:DAYLIGHT
TZOFFSETFROM:-0500
TZOFFSETTO:-0400
TZNAME:EDT
DTSTART:20260308T070000
END:DAYLIGHT
BEGIN:STANDARD
TZOFFSETFROM:-0400
TZOFFSETTO:-0500
TZNAME:EST
DTSTART:20261101T060000
END:STANDARD
END:VTIMEZONE
BEGIN:VEVENT
DTSTART;TZID=America/New_York:20251214T150000
DTEND;TZID=America/New_York:20251214T180000
DTSTAMP:20260423T212526
CREATED:20241114T192605Z
LAST-MODIFIED:20251112T174257Z
UID:5413-1765724400-1765735200@adventureanderson.com
SUMMARY:Christmas Concert
DESCRIPTION:The Oak Ridge Community Band will perform their Christmas Concert on Sunday\, December 14th at the Oak Ridge Performing Arts Center.  The band will feature  familiar and seasonal music including favorites such as “Sleigh Ride\,” “Feliz Navidad\,” “Greensleeves\,” “Auld Lang Syne\,” “In the Bleak Midwinter\,” “Polar Express\,” and many other lovely tunes. \nThe Oak Ridge Community Band has been delighting audiences since 1944\, when Oak Ridge was still a “secret city.” This all-volunteer group of musicians performs year-round\, with outdoor summer concerts at Bissell Park Pavilion and indoor performances at local venues. Their diverse programs feature classical\, jazz\, big band\, patriotic\, and contemporary favorites\, offering something for all ages to enjoy.
URL:https://adventureanderson.com/events/christmas-concert/
LOCATION:Oak Ridge Performing Arts Center\, 1450 Oak Ridge Turnpike\, Oak Ridge\, TN\, 37830\, United States
ATTACH;FMTTYPE=image/jpeg:https://adventureanderson.com/wp-content/uploads/2024/11/Oak-Ridge-Community-Band-Christmas.jpg
END:VEVENT
END:VCALENDAR