BEGIN:VCALENDAR
VERSION:2.0
PRODID:-//Adventure Anderson - ECPv6.15.20//NONSGML v1.0//EN
CALSCALE:GREGORIAN
METHOD:PUBLISH
X-WR-CALNAME:Adventure Anderson
X-ORIGINAL-URL:https://adventureanderson.com
X-WR-CALDESC:Events for Adventure Anderson
REFRESH-INTERVAL;VALUE=DURATION:PT1H
X-Robots-Tag:noindex
X-PUBLISHED-TTL:PT1H
BEGIN:VTIMEZONE
TZID:America/New_York
BEGIN:DAYLIGHT
TZOFFSETFROM:-0500
TZOFFSETTO:-0400
TZNAME:EDT
DTSTART:20240310T070000
END:DAYLIGHT
BEGIN:STANDARD
TZOFFSETFROM:-0400
TZOFFSETTO:-0500
TZNAME:EST
DTSTART:20241103T060000
END:STANDARD
BEGIN:DAYLIGHT
TZOFFSETFROM:-0500
TZOFFSETTO:-0400
TZNAME:EDT
DTSTART:20250309T070000
END:DAYLIGHT
BEGIN:STANDARD
TZOFFSETFROM:-0400
TZOFFSETTO:-0500
TZNAME:EST
DTSTART:20251102T060000
END:STANDARD
BEGIN:DAYLIGHT
TZOFFSETFROM:-0500
TZOFFSETTO:-0400
TZNAME:EDT
DTSTART:20260308T070000
END:DAYLIGHT
BEGIN:STANDARD
TZOFFSETFROM:-0400
TZOFFSETTO:-0500
TZNAME:EST
DTSTART:20261101T060000
END:STANDARD
END:VTIMEZONE
BEGIN:VEVENT
DTSTART;TZID=America/New_York:20251213T100000
DTEND;TZID=America/New_York:20251213T170000
DTSTAMP:20260424T104945
CREATED:20240625T202809Z
LAST-MODIFIED:20251204T165301Z
UID:3060-1765620000-1765645200@adventureanderson.com
SUMMARY:Holiday Market and Cookie Crawl
DESCRIPTION:Enjoy a holiday market with great sales and a ton of fun in Historic Downtown Clinton on December 13th  from 10 am – 5 pm. \nThe Cookie Crawl takes place from 1:00 pm to 4:00pm. Be on the lookout for Santa and The Grinch who will be around for free pictures!
URL:https://adventureanderson.com/events/holiday-market-and-cookie-crawl/
LOCATION:Historic Downtown Clinton\, Market Street\, Clinton\, TN\, 37716\, United States
ATTACH;FMTTYPE=image/png:https://adventureanderson.com/wp-content/uploads/2024/06/Christmas-Shopping.png
END:VEVENT
END:VCALENDAR