BEGIN:VCALENDAR
VERSION:2.0
PRODID:-//Adventure Anderson - ECPv6.15.20//NONSGML v1.0//EN
CALSCALE:GREGORIAN
METHOD:PUBLISH
X-WR-CALNAME:Adventure Anderson
X-ORIGINAL-URL:https://adventureanderson.com
X-WR-CALDESC:Events for Adventure Anderson
REFRESH-INTERVAL;VALUE=DURATION:PT1H
X-Robots-Tag:noindex
X-PUBLISHED-TTL:PT1H
BEGIN:VTIMEZONE
TZID:America/New_York
BEGIN:DAYLIGHT
TZOFFSETFROM:-0500
TZOFFSETTO:-0400
TZNAME:EDT
DTSTART:20250309T070000
END:DAYLIGHT
BEGIN:STANDARD
TZOFFSETFROM:-0400
TZOFFSETTO:-0500
TZNAME:EST
DTSTART:20251102T060000
END:STANDARD
BEGIN:DAYLIGHT
TZOFFSETFROM:-0500
TZOFFSETTO:-0400
TZNAME:EDT
DTSTART:20260308T070000
END:DAYLIGHT
BEGIN:STANDARD
TZOFFSETFROM:-0400
TZOFFSETTO:-0500
TZNAME:EST
DTSTART:20261101T060000
END:STANDARD
BEGIN:DAYLIGHT
TZOFFSETFROM:-0500
TZOFFSETTO:-0400
TZNAME:EDT
DTSTART:20270314T070000
END:DAYLIGHT
BEGIN:STANDARD
TZOFFSETFROM:-0400
TZOFFSETTO:-0500
TZNAME:EST
DTSTART:20271107T060000
END:STANDARD
END:VTIMEZONE
BEGIN:VEVENT
DTSTART;TZID=America/New_York:20260228T100000
DTEND;TZID=America/New_York:20260228T160000
DTSTAMP:20260423T232419
CREATED:20241216T213256Z
LAST-MODIFIED:20251211T155550Z
UID:5680-1772272800-1772294400@adventureanderson.com
SUMMARY:International Festival
DESCRIPTION:The festival features a variety of world cultures through performances\, food\, crafts\, children’s activities\, and more. From art to music to dance\, there will be something of interest for all ages. Proceeds benefit the Children’s Museum.
URL:https://adventureanderson.com/events/international-festival/
LOCATION:Children’s Museum of Oak Ridge\, 461 W Outer Drive\, Oak Ridge\, TN\, 37830\, United States
ATTACH;FMTTYPE=image/jpeg:https://adventureanderson.com/wp-content/uploads/2024/12/International-Festival-at-Childrens-Museum-Oak-Ridge.jpg
END:VEVENT
END:VCALENDAR