BEGIN:VCALENDAR
VERSION:2.0
PRODID:-//Adventure Anderson - ECPv6.15.17.1//NONSGML v1.0//EN
CALSCALE:GREGORIAN
METHOD:PUBLISH
X-WR-CALNAME:Adventure Anderson
X-ORIGINAL-URL:https://adventureanderson.com
X-WR-CALDESC:Events for Adventure Anderson
REFRESH-INTERVAL;VALUE=DURATION:PT1H
X-Robots-Tag:noindex
X-PUBLISHED-TTL:PT1H
BEGIN:VTIMEZONE
TZID:America/New_York
BEGIN:DAYLIGHT
TZOFFSETFROM:-0500
TZOFFSETTO:-0400
TZNAME:EDT
DTSTART:20250309T070000
END:DAYLIGHT
BEGIN:STANDARD
TZOFFSETFROM:-0400
TZOFFSETTO:-0500
TZNAME:EST
DTSTART:20251102T060000
END:STANDARD
BEGIN:DAYLIGHT
TZOFFSETFROM:-0500
TZOFFSETTO:-0400
TZNAME:EDT
DTSTART:20260308T070000
END:DAYLIGHT
BEGIN:STANDARD
TZOFFSETFROM:-0400
TZOFFSETTO:-0500
TZNAME:EST
DTSTART:20261101T060000
END:STANDARD
BEGIN:DAYLIGHT
TZOFFSETFROM:-0500
TZOFFSETTO:-0400
TZNAME:EDT
DTSTART:20270314T070000
END:DAYLIGHT
BEGIN:STANDARD
TZOFFSETFROM:-0400
TZOFFSETTO:-0500
TZNAME:EST
DTSTART:20271107T060000
END:STANDARD
END:VTIMEZONE
BEGIN:VEVENT
DTSTART;TZID=America/New_York:20260418T090000
DTEND;TZID=America/New_York:20260418T170000
DTSTAMP:20260419T080128
CREATED:20250116T183507Z
LAST-MODIFIED:20260130T153533Z
UID:5788-1776502800-1776531600@adventureanderson.com
SUMMARY:Mosaic Arts Festival– A Downtown Celebration of the Arts
DESCRIPTION:Enjoy this community art festival with dancing\, drama\, artisans\, fashion\, food vendors\, and more in Historic Downtown Clinton. The event kicks off with a 5K and mile color run from 9 to 10 a.m.
URL:https://adventureanderson.com/events/mosaic-arts-festival-a-downtown-celebration-of-the-arts/
LOCATION:Clinton Community Center\, 101 South Hicks Street\, Clinton\, TN\, 37716\, United States
ATTACH;FMTTYPE=image/jpeg:https://adventureanderson.com/wp-content/uploads/2025/01/mosaic-2024-178-scaled.jpg
END:VEVENT
END:VCALENDAR