BEGIN:VCALENDAR
VERSION:2.0
PRODID:-//Adventure Anderson - ECPv6.15.20//NONSGML v1.0//EN
CALSCALE:GREGORIAN
METHOD:PUBLISH
X-WR-CALNAME:Adventure Anderson
X-ORIGINAL-URL:https://adventureanderson.com
X-WR-CALDESC:Events for Adventure Anderson
REFRESH-INTERVAL;VALUE=DURATION:PT1H
X-Robots-Tag:noindex
X-PUBLISHED-TTL:PT1H
BEGIN:VTIMEZONE
TZID:America/New_York
BEGIN:DAYLIGHT
TZOFFSETFROM:-0500
TZOFFSETTO:-0400
TZNAME:EDT
DTSTART:20240310T070000
END:DAYLIGHT
BEGIN:STANDARD
TZOFFSETFROM:-0400
TZOFFSETTO:-0500
TZNAME:EST
DTSTART:20241103T060000
END:STANDARD
BEGIN:DAYLIGHT
TZOFFSETFROM:-0500
TZOFFSETTO:-0400
TZNAME:EDT
DTSTART:20250309T070000
END:DAYLIGHT
BEGIN:STANDARD
TZOFFSETFROM:-0400
TZOFFSETTO:-0500
TZNAME:EST
DTSTART:20251102T060000
END:STANDARD
BEGIN:DAYLIGHT
TZOFFSETFROM:-0500
TZOFFSETTO:-0400
TZNAME:EDT
DTSTART:20260308T070000
END:DAYLIGHT
BEGIN:STANDARD
TZOFFSETFROM:-0400
TZOFFSETTO:-0500
TZNAME:EST
DTSTART:20261101T060000
END:STANDARD
END:VTIMEZONE
BEGIN:VEVENT
DTSTART;TZID=America/New_York:20251213T180000
DTEND;TZID=America/New_York:20251213T200000
DTSTAMP:20260423T225435
CREATED:20241030T000943Z
LAST-MODIFIED:20251117T162446Z
UID:5346-1765648800-1765656000@adventureanderson.com
SUMMARY:Oak Ridge Christmas Parade
DESCRIPTION:The Oak Ridge Christmas Parade will be on December 13\, 2025. This year’s theme is Country Christmas. While registration for this event is free\, participants are required to complete an online registration form prior to parade day. \nSpectators can see the parade along Oak Ridge Turnpike.  This event is broadcasted live thanks to BBB-TV. \nParticipants can opt into the contest below\, judged by select Chamber members. \nContest Details (Optional Participation): \nSpectacular Sparkles Award: Given to any entry that presents an outstanding display of lights and/or other type of illumination.\nElfin Magic Award: Given to the outstanding entry featuring children as the main part of the entry.\nSpirit Award: Given to the entry that has the most enthusiasm during the parade.\nDirector’s Award: Given to the best walking/marching group.\nChamber Award: Given to the overall outstanding entry presenting and illustrating the parade theme – Home for the Holidays!\nJudge’s Award: Given to the entry that has the best overall originality\, creativity\, appearance\, and uniqueness of decorations.
URL:https://adventureanderson.com/events/oak-ridge-christmas-parade/
LOCATION:Oak Ridge Turnpike\, Oak Ridge Turnpike\, Oak Ridge\, TN\, 37830\, United States
ATTACH;FMTTYPE=image/png:https://adventureanderson.com/wp-content/uploads/2024/10/AA-November-2025-Social-Posts-3.png
ORGANIZER;CN="Oak Ridge Chamber of Commerce":MAILTO:info@orcc.org
END:VEVENT
END:VCALENDAR