BEGIN:VCALENDAR
VERSION:2.0
PRODID:-//Adventure Anderson - ECPv6.15.20//NONSGML v1.0//EN
CALSCALE:GREGORIAN
METHOD:PUBLISH
X-WR-CALNAME:Adventure Anderson
X-ORIGINAL-URL:https://adventureanderson.com
X-WR-CALDESC:Events for Adventure Anderson
REFRESH-INTERVAL;VALUE=DURATION:PT1H
X-Robots-Tag:noindex
X-PUBLISHED-TTL:PT1H
BEGIN:VTIMEZONE
TZID:America/New_York
BEGIN:DAYLIGHT
TZOFFSETFROM:-0500
TZOFFSETTO:-0400
TZNAME:EDT
DTSTART:20240310T070000
END:DAYLIGHT
BEGIN:STANDARD
TZOFFSETFROM:-0400
TZOFFSETTO:-0500
TZNAME:EST
DTSTART:20241103T060000
END:STANDARD
BEGIN:DAYLIGHT
TZOFFSETFROM:-0500
TZOFFSETTO:-0400
TZNAME:EDT
DTSTART:20250309T070000
END:DAYLIGHT
BEGIN:STANDARD
TZOFFSETFROM:-0400
TZOFFSETTO:-0500
TZNAME:EST
DTSTART:20251102T060000
END:STANDARD
BEGIN:DAYLIGHT
TZOFFSETFROM:-0500
TZOFFSETTO:-0400
TZNAME:EDT
DTSTART:20260308T070000
END:DAYLIGHT
BEGIN:STANDARD
TZOFFSETFROM:-0400
TZOFFSETTO:-0500
TZNAME:EST
DTSTART:20261101T060000
END:STANDARD
END:VTIMEZONE
BEGIN:VEVENT
DTSTART;TZID=America/New_York:20250704T153000
DTEND;TZID=America/New_York:20250704T173000
DTSTAMP:20260424T172315
CREATED:20240621T231144Z
LAST-MODIFIED:20250603T144129Z
UID:2947-1751643000-1751650200@adventureanderson.com
SUMMARY:Independence Day Concert and Fireworks in Oak Ridge
DESCRIPTION:The Oak Ridge Community Band will be performing an Independence Day Concert on July 4th at 7:30 p.m. at A.K. Bissel Park. This concert is special for the Oak Ridge Community Band\, as it marks the anniversary of its very first concert\, held on July 4\, 1944. The program will feature patriotic tunes and more. Bring chairs or blankets for outdoor seating\, and come early as this event usually draws a large crowd. \nBe sure to stick around for the fireworks following the concert\, which are scheduled to start at 9:45 a.m.  All activities are free.
URL:https://adventureanderson.com/events/oak-ridge-community-band-concert-and-fireworks/
LOCATION:A. K. Bissell Park\, 1403 Oak Ridge Turnpike\, Oak Ridge\, TN\, 37830\, United States
ATTACH;FMTTYPE=image/jpeg:https://adventureanderson.com/wp-content/uploads/2024/06/oak-ridge-community-band-july-4th-concert-scaled.jpg
END:VEVENT
END:VCALENDAR