BEGIN:VCALENDAR
VERSION:2.0
PRODID:-//Adventure Anderson - ECPv6.15.20//NONSGML v1.0//EN
CALSCALE:GREGORIAN
METHOD:PUBLISH
X-WR-CALNAME:Adventure Anderson
X-ORIGINAL-URL:https://adventureanderson.com
X-WR-CALDESC:Events for Adventure Anderson
REFRESH-INTERVAL;VALUE=DURATION:PT1H
X-Robots-Tag:noindex
X-PUBLISHED-TTL:PT1H
BEGIN:VTIMEZONE
TZID:America/New_York
BEGIN:DAYLIGHT
TZOFFSETFROM:-0500
TZOFFSETTO:-0400
TZNAME:EDT
DTSTART:20250309T070000
END:DAYLIGHT
BEGIN:STANDARD
TZOFFSETFROM:-0400
TZOFFSETTO:-0500
TZNAME:EST
DTSTART:20251102T060000
END:STANDARD
BEGIN:DAYLIGHT
TZOFFSETFROM:-0500
TZOFFSETTO:-0400
TZNAME:EDT
DTSTART:20260308T070000
END:DAYLIGHT
BEGIN:STANDARD
TZOFFSETFROM:-0400
TZOFFSETTO:-0500
TZNAME:EST
DTSTART:20261101T060000
END:STANDARD
BEGIN:DAYLIGHT
TZOFFSETFROM:-0500
TZOFFSETTO:-0400
TZNAME:EDT
DTSTART:20270314T070000
END:DAYLIGHT
BEGIN:STANDARD
TZOFFSETFROM:-0400
TZOFFSETTO:-0500
TZNAME:EST
DTSTART:20271107T060000
END:STANDARD
END:VTIMEZONE
BEGIN:VEVENT
DTSTART;TZID=America/New_York:20260611T040000
DTEND;TZID=America/New_York:20260613T060000
DTSTAMP:20260423T212522
CREATED:20260421T140443Z
LAST-MODIFIED:20260421T140638Z
UID:7406-1781150400-1781330400@adventureanderson.com
SUMMARY:Great Smoky Mountain Trail Ride
DESCRIPTION:Join the Southeast Toyota Land Cruiser Association (STLCA) for the 35th Annual Great Smoky Mountain Trail Ride June 11 – 13\, 2026. For over three decades\, STLCA has brought Toyota enthusiasts together for mud\, rocks\, mountains\, and community. This weekend is packed full of trail rides\, raffles\, dinners\, and much more!
URL:https://adventureanderson.com/events/smoky-mountain-trail-ride/
LOCATION:Windrock Park\, 912 Windrock Road\, Oliver Springs\, TN\, 37840\, United States
ATTACH;FMTTYPE=image/jpeg:https://adventureanderson.com/wp-content/uploads/2026/04/LOGO-5-768x768-1.jpg
END:VEVENT
END:VCALENDAR