BEGIN:VCALENDAR
VERSION:2.0
PRODID:-//Adventure Anderson - ECPv6.15.20//NONSGML v1.0//EN
CALSCALE:GREGORIAN
METHOD:PUBLISH
X-WR-CALNAME:Adventure Anderson
X-ORIGINAL-URL:https://adventureanderson.com
X-WR-CALDESC:Events for Adventure Anderson
REFRESH-INTERVAL;VALUE=DURATION:PT1H
X-Robots-Tag:noindex
X-PUBLISHED-TTL:PT1H
BEGIN:VTIMEZONE
TZID:America/New_York
BEGIN:DAYLIGHT
TZOFFSETFROM:-0500
TZOFFSETTO:-0400
TZNAME:EDT
DTSTART:20240310T070000
END:DAYLIGHT
BEGIN:STANDARD
TZOFFSETFROM:-0400
TZOFFSETTO:-0500
TZNAME:EST
DTSTART:20241103T060000
END:STANDARD
BEGIN:DAYLIGHT
TZOFFSETFROM:-0500
TZOFFSETTO:-0400
TZNAME:EDT
DTSTART:20250309T070000
END:DAYLIGHT
BEGIN:STANDARD
TZOFFSETFROM:-0400
TZOFFSETTO:-0500
TZNAME:EST
DTSTART:20251102T060000
END:STANDARD
BEGIN:DAYLIGHT
TZOFFSETFROM:-0500
TZOFFSETTO:-0400
TZNAME:EDT
DTSTART:20260308T070000
END:DAYLIGHT
BEGIN:STANDARD
TZOFFSETFROM:-0400
TZOFFSETTO:-0500
TZNAME:EST
DTSTART:20261101T060000
END:STANDARD
END:VTIMEZONE
BEGIN:VEVENT
DTSTART;TZID=America/New_York:20250510T100000
DTEND;TZID=America/New_York:20250510T150000
DTSTAMP:20260423T214205
CREATED:20250508T144015Z
LAST-MODIFIED:20250508T144218Z
UID:6573-1746871200-1746889200@adventureanderson.com
SUMMARY:Spring Maker Market & Porch Sale
DESCRIPTION:Join the Appalachian Arts Craft Center in Clinton\, TN\, on Saturday\, May 10\, 2025\, from 10 AM to 3 PM for its annual Spring Maker Market & Porch Sale. Enjoy handmade goods from local artisans\, live screen-printing with 865 Studio Shirts\, seasonal treats from Jammin Jams\, and a BBQ lunch fundraiser. Shop for unique pottery\, fiber art\, jewelry\, stained glass\, and more—just in time for Mother’s Day. The event also kicks off a two-week Spring Porch Sale (May 10–25) featuring discounted handmade items from regional artists. Learn more at www.appalachianarts.net.
URL:https://adventureanderson.com/events/spring-maker-market-porch-sale/
LOCATION:Appalachian Arts Craft Center\, 2716 Andersonville Highway\, Clinton\, TN\, 37716\, United States
ATTACH;FMTTYPE=image/jpeg:https://adventureanderson.com/wp-content/uploads/2025/05/craft-4.jpg
END:VEVENT
END:VCALENDAR